BEGIN:VCALENDAR
VERSION:2.0
PRODID:-//ChamberMaster//Event Calendar 2.0//EN
METHOD:PUBLISH
X-PUBLISHED-TTL:P3D
REFRESH-INTERVAL:P3D
CALSCALE:GREGORIAN
BEGIN:VEVENT
DTSTART:20161026T203000Z
DTEND:20161026T223000Z
X-MICROSOFT-CDO-ALLDAYEVENT:FALSE
SUMMARY:Open M Networking Extravaganza - October 26
DESCRIPTION:BRING  business cards\, brochures and samples to give to prospective customers!\n\n\n\nLocal food and drink vendors providing free samples!\n\n\n\nYoung Professionals encouraged to attend!\n\n\n\nTour th OPEN M facility and hear about our exciting strides in Akron!\n\n\n\nInvite a friend or associate!\n\n\n\nEnjoy delicious food samplings from several area establishments.\n\n\n\nParticipating Chambers\n\n	Cuyahoga Falls Chamber\n	Fairlawn  Area Chamber\n	Greater Akron Chamber\n	South Akron Board of Trade\n	Stow-Munroe Falls Chamber\n\n\n\nRSVP: Aimee Juarez | 330.434.0110 x418 | projects@openm.org
X-ALT-DESC;FMTTYPE=text/html:BRING&hellip\; business cards\, brochures and samples to give to&nbsp\;prospective customers!<br />\n<br />\nLocal food and drink vendors providing free samples!<br />\n<br />\nYoung Professionals encouraged to attend!<br />\n<br />\nTour th OPEN M facility and hear about our exciting strides in Akron!<br />\n<br />\nInvite a friend or associate!<br />\n<br />\nEnjoy delicious food samplings from several&nbsp\;area establishments.<br />\n<br />\n<span style="font-size:18px\;"><u><strong>Participating Chambers</strong></u></span>\n<ul>\n	<li>Cuyahoga Falls Chamber</li>\n	<li>Fairlawn &nbsp\;Area Chamber</li>\n	<li>Greater Akron Chamber</li>\n	<li>South Akron Board of Trade</li>\n	<li>Stow-Munroe&nbsp\;Falls Chamber</li>\n</ul>\n<br />\n<span style="border: 0px\; margin: 0px\; padding: 0px\; vertical-align: baseline\; outline: 0px\; font-family: Raleway\, sans-serif\; font-size: 14px\; line-height: 26px\; text-align: center\; text-decoration: underline\; color: rgb(255\, 0\, 0)\; background: rgb(255\, 255\, 255)\;"><strong style="border: 0px\; margin: 0px\; padding: 0px\; vertical-align: baseline\; outline: 0px\; background: transparent\;">RSVP</strong></span><span style="border: 0px\; margin: 0px\; padding: 0px\; vertical-align: baseline\; outline: 0px\; font-family: Raleway\, sans-serif\; font-size: 14px\; line-height: 26px\; text-align: center\; color: rgb(255\, 0\, 0)\; background: rgb(255\, 255\, 255)\;"><strong style="border: 0px\; margin: 0px\; padding: 0px\; vertical-align: baseline\; outline: 0px\; background: transparent\;">:</strong></span><span style="color: rgb(129\, 129\, 129)\; font-family: Raleway\, sans-serif\; font-size: 14px\; line-height: 26px\; text-align: center\; background-color: rgb(255\, 255\, 255)\;">&nbsp\;Aimee Juarez | 330.434.0110&nbsp\;x418&nbsp\;|&nbsp\;</span><a href="mailto:projects@openm.org" style="color: rgb(48\, 48\, 48)\; border: 0px\; margin: 0px\; padding: 0px\; vertical-align: baseline\; outline: 0px\; text-decoration: none\; cursor: pointer\; font-family: Raleway\, sans-serif\; font-size: 14px\; line-height: 26px\; text-align: center\; background: rgb(255\, 255\, 255)\;">projects@openm.org</a>
LOCATION:OPEN M 941 Princeton Street Akron\, Ohio Visit www.openm.org for directions
UID:e.2279.3109
SEQUENCE:3
DTSTAMP:20260420T235710Z
URL:http://cfchamber.chambermaster.com/events/details/open-m-networking-extravaganza-october-26-10-26-2016-3109
END:VEVENT

END:VCALENDAR
